BEGIN:VCALENDAR
PRODID:-//217.160.0.156//NONSGML iCalcreator 2.6//
VERSION:2.0
BEGIN:VEVENT
UID:20260419T121050UTC-5057MMvun5@217.160.0.156
DTSTAMP:20260419T121050Z
CATEGORIES:Avilés Stadium C.F.Events
DESCRIPTION:
DTSTART:20260426T120000
LOCATION:Muro de Zaro
SUMMARY:Avilés Stadium – Llanes
END:VEVENT
END:VCALENDAR
